BEGIN:VCALENDAR
VERSION:2.0
PRODID:-//Schachclub Bad Salzdetfurth - ECPv6.15.20//NONSGML v1.0//EN
CALSCALE:GREGORIAN
METHOD:PUBLISH
X-WR-CALNAME:Schachclub Bad Salzdetfurth
X-ORIGINAL-URL:https://www.schachclub-badsalzdetfurth.de
X-WR-CALDESC:Veranstaltungen für Schachclub Bad Salzdetfurth
REFRESH-INTERVAL;VALUE=DURATION:PT1H
X-Robots-Tag:noindex
X-PUBLISHED-TTL:PT1H
BEGIN:VTIMEZONE
TZID:Europe/Berlin
BEGIN:DAYLIGHT
TZOFFSETFROM:+0100
TZOFFSETTO:+0200
TZNAME:CEST
DTSTART:20240331T010000
END:DAYLIGHT
BEGIN:STANDARD
TZOFFSETFROM:+0200
TZOFFSETTO:+0100
TZNAME:CET
DTSTART:20241027T010000
END:STANDARD
BEGIN:DAYLIGHT
TZOFFSETFROM:+0100
TZOFFSETTO:+0200
TZNAME:CEST
DTSTART:20250330T010000
END:DAYLIGHT
BEGIN:STANDARD
TZOFFSETFROM:+0200
TZOFFSETTO:+0100
TZNAME:CET
DTSTART:20251026T010000
END:STANDARD
BEGIN:DAYLIGHT
TZOFFSETFROM:+0100
TZOFFSETTO:+0200
TZNAME:CEST
DTSTART:20260329T010000
END:DAYLIGHT
BEGIN:STANDARD
TZOFFSETFROM:+0200
TZOFFSETTO:+0100
TZNAME:CET
DTSTART:20261025T010000
END:STANDARD
BEGIN:DAYLIGHT
TZOFFSETFROM:+0100
TZOFFSETTO:+0200
TZNAME:CEST
DTSTART:20270328T010000
END:DAYLIGHT
BEGIN:STANDARD
TZOFFSETFROM:+0200
TZOFFSETTO:+0100
TZNAME:CET
DTSTART:20271031T010000
END:STANDARD
END:VTIMEZONE
BEGIN:VEVENT
DTSTART;TZID=Europe/Berlin:20260412T110000
DTEND;TZID=Europe/Berlin:20260412T170000
DTSTAMP:20260424T134347
CREATED:20251031T190917Z
LAST-MODIFIED:20251031T190941Z
UID:4139-1775991600-1776013200@www.schachclub-badsalzdetfurth.de
SUMMARY:8. Spieltag Bezirksklasse: SC Bad Salzdetfurth - ESV Göttingen 5
DESCRIPTION:
URL:https://www.schachclub-badsalzdetfurth.de/termin/8-spieltag-bezirksklasse-2025-2026/
LOCATION:IGS Bad Salzdetfurth\, Birkenweg 38\, Bad Salzdetfurth\, 31162
END:VEVENT
BEGIN:VEVENT
DTSTART;TZID=Europe/Berlin:20260412T100000
DTEND;TZID=Europe/Berlin:20260412T160000
DTSTAMP:20260424T134347
CREATED:20251031T184529Z
LAST-MODIFIED:20251031T184602Z
UID:4110-1775988000-1776009600@www.schachclub-badsalzdetfurth.de
SUMMARY:8. Spieltag Verbandsliga: SC Bad Salzdetfurth - SVG Salzgitter e. V.
DESCRIPTION:
URL:https://www.schachclub-badsalzdetfurth.de/termin/8-spieltag-verbandsliga-2025-2026/
LOCATION:IGS Bad Salzdetfurth\, Birkenweg 38\, Bad Salzdetfurth\, 31162
END:VEVENT
BEGIN:VEVENT
DTSTART;TZID=Europe/Berlin:20260410T193000
DTEND;TZID=Europe/Berlin:20260410T193000
DTSTAMP:20260424T134347
CREATED:20260409T090210Z
LAST-MODIFIED:20260409T090210Z
UID:4285-1775849400-1775849400@www.schachclub-badsalzdetfurth.de
SUMMARY:Vereinsmeisterschaft 5. Runde
DESCRIPTION:
URL:https://www.schachclub-badsalzdetfurth.de/termin/vereinsmeisterschaft-5-runde/
END:VEVENT
BEGIN:VEVENT
DTSTART;TZID=Europe/Berlin:20260327T193000
DTEND;TZID=Europe/Berlin:20260327T220000
DTSTAMP:20260424T134347
CREATED:20260209T113123Z
LAST-MODIFIED:20260209T113550Z
UID:4227-1774639800-1774648800@www.schachclub-badsalzdetfurth.de
SUMMARY:Jahreshauptversammlung SCS 2026
DESCRIPTION:
URL:https://www.schachclub-badsalzdetfurth.de/termin/jahreshauptversammlung-scs-2026/
LOCATION:IGS Bad Salzdetfurth\, Birkenweg 38\, Bad Salzdetfurth\, 31162
END:VEVENT
BEGIN:VEVENT
DTSTART;TZID=Europe/Berlin:20260322T110000
DTEND;TZID=Europe/Berlin:20260322T170000
DTSTAMP:20260424T134347
CREATED:20251031T190742Z
LAST-MODIFIED:20251031T190759Z
UID:4136-1774177200-1774198800@www.schachclub-badsalzdetfurth.de
SUMMARY:7. Spieltag Bezirksklasse: PSV Bad Pyrmont - SC Bad Salzdetfurth
DESCRIPTION:
URL:https://www.schachclub-badsalzdetfurth.de/termin/7-spieltag-bezirksklasse-2025-2026/
LOCATION:Bad Pyrmont
END:VEVENT
BEGIN:VEVENT
DTSTART;TZID=Europe/Berlin:20260322T100000
DTEND;TZID=Europe/Berlin:20260322T160000
DTSTAMP:20260424T134347
CREATED:20251031T184324Z
LAST-MODIFIED:20251031T184341Z
UID:4107-1774173600-1774195200@www.schachclub-badsalzdetfurth.de
SUMMARY:7. Spieltag Verbandsliga: SC BS Gliesmarode 2 - SC Bad Salzdetfurth
DESCRIPTION:
URL:https://www.schachclub-badsalzdetfurth.de/termin/7-spieltag-verbandsliga-2025-2026/
LOCATION:Braunschweig
END:VEVENT
BEGIN:VEVENT
DTSTART;TZID=Europe/Berlin:20260313T193000
DTEND;TZID=Europe/Berlin:20260313T193000
DTSTAMP:20260424T134347
CREATED:20260312T162106Z
LAST-MODIFIED:20260312T162106Z
UID:4258-1773430200-1773430200@www.schachclub-badsalzdetfurth.de
SUMMARY:Vereinsmeisterschaft 4. Runde
DESCRIPTION:
URL:https://www.schachclub-badsalzdetfurth.de/termin/vereinsmeisterschaft-4-runde/
END:VEVENT
BEGIN:VEVENT
DTSTART;TZID=Europe/Berlin:20260301T110000
DTEND;TZID=Europe/Berlin:20260301T170000
DTSTAMP:20260424T134347
CREATED:20251031T190539Z
LAST-MODIFIED:20251031T190559Z
UID:4133-1772362800-1772384400@www.schachclub-badsalzdetfurth.de
SUMMARY:6. Spieltag Bezirksklasse: SC Bad Salzdetfurth - SK Bad Harzburg
DESCRIPTION:
URL:https://www.schachclub-badsalzdetfurth.de/termin/6-spieltag-bezirksklasse-2025-2026/
LOCATION:IGS Bad Salzdetfurth\, Birkenweg 38\, Bad Salzdetfurth\, 31162
END:VEVENT
BEGIN:VEVENT
DTSTART;TZID=Europe/Berlin:20260301T100000
DTEND;TZID=Europe/Berlin:20260301T160000
DTSTAMP:20260424T134347
CREATED:20251031T183912Z
LAST-MODIFIED:20251031T183942Z
UID:4104-1772359200-1772380800@www.schachclub-badsalzdetfurth.de
SUMMARY:6. Spieltag Verbandsliga: SC Bad Salzdetfurth - SV Cai. Wolfenbüttel
DESCRIPTION:
URL:https://www.schachclub-badsalzdetfurth.de/termin/6-spieltag-verbandsliga-2025-2026/
LOCATION:IGS Bad Salzdetfurth\, Birkenweg 38\, Bad Salzdetfurth\, 31162
END:VEVENT
BEGIN:VEVENT
DTSTART;TZID=Europe/Berlin:20260217T090000
DTEND;TZID=Europe/Berlin:20260217T130000
DTSTAMP:20260424T134347
CREATED:20260209T113445Z
LAST-MODIFIED:20260209T113829Z
UID:4230-1771318800-1771333200@www.schachclub-badsalzdetfurth.de
SUMMARY:Simultanveranstaltung: Stadtmeister vs Schüler und Lehrer
DESCRIPTION:
URL:https://www.schachclub-badsalzdetfurth.de/termin/simultanveranstaltung-stadtmeister-vs-schueler-und-lehrer/
LOCATION:IGS Bad Salzdetfurth\, Birkenweg 38\, Bad Salzdetfurth\, 31162
END:VEVENT
BEGIN:VEVENT
DTSTART;TZID=Europe/Berlin:20260208T110000
DTEND;TZID=Europe/Berlin:20260208T170000
DTSTAMP:20260424T134347
CREATED:20251031T190407Z
LAST-MODIFIED:20251031T190436Z
UID:4129-1770548400-1770570000@www.schachclub-badsalzdetfurth.de
SUMMARY:5. Spieltag Bezirksklasse: SC Langelsheim - SC Bad Salzdetfurth
DESCRIPTION:
URL:https://www.schachclub-badsalzdetfurth.de/termin/5-spieltag-bezirksklasse-2025-2026/
LOCATION:Langelsheim
END:VEVENT
BEGIN:VEVENT
DTSTART;TZID=Europe/Berlin:20260208T100000
DTEND;TZID=Europe/Berlin:20260208T160000
DTSTAMP:20260424T134347
CREATED:20251031T183525Z
LAST-MODIFIED:20251031T183604Z
UID:4098-1770544800-1770566400@www.schachclub-badsalzdetfurth.de
SUMMARY:5. Spieltag Verbandsliga: Hildesheimer SV 2 - SC Bad Salzdetfurth
DESCRIPTION:
URL:https://www.schachclub-badsalzdetfurth.de/termin/5-spieltag-verbandsliga-2025-2026/
LOCATION:Hildesheim
END:VEVENT
BEGIN:VEVENT
DTSTART;TZID=Europe/Berlin:20260123T193000
DTEND;TZID=Europe/Berlin:20260123T193000
DTSTAMP:20260424T134347
CREATED:20260116T102716Z
LAST-MODIFIED:20260116T102716Z
UID:4176-1769196600-1769196600@www.schachclub-badsalzdetfurth.de
SUMMARY:Vereinsmeisterschaft Runde 1
DESCRIPTION:
URL:https://www.schachclub-badsalzdetfurth.de/termin/vereinsmeisterschaft-runde-1-2/
END:VEVENT
BEGIN:VEVENT
DTSTART;TZID=Europe/Berlin:20260118T110000
DTEND;TZID=Europe/Berlin:20260118T170000
DTSTAMP:20260424T134347
CREATED:20251031T190203Z
LAST-MODIFIED:20251031T190252Z
UID:4126-1768734000-1768755600@www.schachclub-badsalzdetfurth.de
SUMMARY:4. Spieltag Bezirksklasse: SC Bad Salzdetfurth - Hamelner SV 4
DESCRIPTION:
URL:https://www.schachclub-badsalzdetfurth.de/termin/4-spieltag-bezirksklasse-2025-2026/
LOCATION:IGS Bad Salzdetfurth\, Birkenweg 38\, Bad Salzdetfurth\, 31162
END:VEVENT
BEGIN:VEVENT
DTSTART;TZID=Europe/Berlin:20260118T100000
DTEND;TZID=Europe/Berlin:20260118T160000
DTSTAMP:20260424T134347
CREATED:20251031T183316Z
LAST-MODIFIED:20251031T183332Z
UID:4095-1768730400-1768752000@www.schachclub-badsalzdetfurth.de
SUMMARY:4. Spieltag Verbandsliga: SC Bad Salzdetfurth - Hamelner SV 2
DESCRIPTION:
URL:https://www.schachclub-badsalzdetfurth.de/termin/4-spieltag-verbandsliga-2025-2026/
LOCATION:IGS Bad Salzdetfurth\, Birkenweg 38\, Bad Salzdetfurth\, 31162
END:VEVENT
BEGIN:VEVENT
DTSTART;TZID=Europe/Berlin:20260116T193000
DTEND;TZID=Europe/Berlin:20260116T193000
DTSTAMP:20260424T134347
CREATED:20260115T145934Z
LAST-MODIFIED:20260115T145934Z
UID:4173-1768591800-1768591800@www.schachclub-badsalzdetfurth.de
SUMMARY:Blitzturnier
DESCRIPTION:
URL:https://www.schachclub-badsalzdetfurth.de/termin/blitzturnier-2/
END:VEVENT
BEGIN:VEVENT
DTSTART;TZID=Europe/Berlin:20251212T180000
DTEND;TZID=Europe/Berlin:20251212T220000
DTSTAMP:20260424T134347
CREATED:20250820T182950Z
LAST-MODIFIED:20250820T183019Z
UID:3998-1765562400-1765576800@www.schachclub-badsalzdetfurth.de
SUMMARY:Weihnachtsfeier
DESCRIPTION:
URL:https://www.schachclub-badsalzdetfurth.de/termin/kegeln/
END:VEVENT
BEGIN:VEVENT
DTSTART;TZID=Europe/Berlin:20251207T110000
DTEND;TZID=Europe/Berlin:20251207T170000
DTSTAMP:20260424T134347
CREATED:20251031T190001Z
LAST-MODIFIED:20251031T190029Z
UID:4122-1765105200-1765126800@www.schachclub-badsalzdetfurth.de
SUMMARY:3. Spieltag Bezirksklasse: SK Duderstadt - SC Bad Salzdetfurth
DESCRIPTION:
URL:https://www.schachclub-badsalzdetfurth.de/termin/3-spieltag-bezirksklasse-2025-2026/
LOCATION:Duderstadt
END:VEVENT
BEGIN:VEVENT
DTSTART;TZID=Europe/Berlin:20251207T100000
DTEND;TZID=Europe/Berlin:20251207T160000
DTSTAMP:20260424T134347
CREATED:20251031T182933Z
LAST-MODIFIED:20251031T183101Z
UID:4092-1765101600-1765123200@www.schachclub-badsalzdetfurth.de
SUMMARY:3. Spieltag Verbandsliga: SG Gifhorn-Wolfsburg 2 - SC Bad Salzdetfurth
DESCRIPTION:
URL:https://www.schachclub-badsalzdetfurth.de/termin/3-spieltag-verbandsliga-2025-2026/
LOCATION:Gifhorn
END:VEVENT
BEGIN:VEVENT
DTSTART;TZID=Europe/Berlin:20251128T180000
DTEND;TZID=Europe/Berlin:20251128T220000
DTSTAMP:20260424T134347
CREATED:20250824T094526Z
LAST-MODIFIED:20251127T091220Z
UID:4020-1764352800-1764367200@www.schachclub-badsalzdetfurth.de
SUMMARY:Kegeln
DESCRIPTION:Gasthof Jörns\,\nMarienburger Straße 41\,\n31199 Diekholzen
URL:https://www.schachclub-badsalzdetfurth.de/termin/kegeln-2/
END:VEVENT
BEGIN:VEVENT
DTSTART;TZID=Europe/Berlin:20251121T193000
DTEND;TZID=Europe/Berlin:20251121T193000
DTSTAMP:20260424T134347
CREATED:20250821T174710Z
LAST-MODIFIED:20250821T174710Z
UID:4017-1763753400-1763753400@www.schachclub-badsalzdetfurth.de
SUMMARY:Stadtmeisterschaft Runde 5
DESCRIPTION:
URL:https://www.schachclub-badsalzdetfurth.de/termin/stadtmeisterschaft-runde-5/
END:VEVENT
BEGIN:VEVENT
DTSTART;TZID=Europe/Berlin:20251116T110000
DTEND;TZID=Europe/Berlin:20251116T170000
DTSTAMP:20260424T134347
CREATED:20251031T185707Z
LAST-MODIFIED:20251031T185731Z
UID:4119-1763290800-1763312400@www.schachclub-badsalzdetfurth.de
SUMMARY:2. Spieltag Bezirksklasse: SC Bad Salzdetfurth - ESV Göttingen 4
DESCRIPTION:
URL:https://www.schachclub-badsalzdetfurth.de/termin/2-spieltag-bezirksklasse-2025-2026/
LOCATION:IGS Bad Salzdetfurth\, Birkenweg 38\, Bad Salzdetfurth\, 31162
END:VEVENT
BEGIN:VEVENT
DTSTART;TZID=Europe/Berlin:20251116T100000
DTEND;TZID=Europe/Berlin:20251116T160000
DTSTAMP:20260424T134347
CREATED:20251031T182054Z
LAST-MODIFIED:20251031T182658Z
UID:4080-1763287200-1763308800@www.schachclub-badsalzdetfurth.de
SUMMARY:2. Spieltag Verbandsliga: SC Bad Salzdetfurth - Union Plesse Gö
DESCRIPTION:
URL:https://www.schachclub-badsalzdetfurth.de/termin/2-spieltag-verbandsliga-2025-2026/
LOCATION:IGS Bad Salzdetfurth\, Birkenweg 38\, Bad Salzdetfurth\, 31162
END:VEVENT
BEGIN:VEVENT
DTSTART;TZID=Europe/Berlin:20251107T193000
DTEND;TZID=Europe/Berlin:20251107T193000
DTSTAMP:20260424T134347
CREATED:20250821T174641Z
LAST-MODIFIED:20250821T174641Z
UID:4014-1762543800-1762543800@www.schachclub-badsalzdetfurth.de
SUMMARY:Stadtmeisterschaft Runde 4
DESCRIPTION:
URL:https://www.schachclub-badsalzdetfurth.de/termin/stadtmeisterschaft-runde-4/
END:VEVENT
BEGIN:VEVENT
DTSTART;TZID=Europe/Berlin:20251024T193000
DTEND;TZID=Europe/Berlin:20251024T193000
DTSTAMP:20260424T134347
CREATED:20250821T174607Z
LAST-MODIFIED:20250829T122535Z
UID:4011-1761334200-1761334200@www.schachclub-badsalzdetfurth.de
SUMMARY:Stadtmeisterschaft Runde 3
DESCRIPTION:
URL:https://www.schachclub-badsalzdetfurth.de/termin/stadtmeisterschaft-runde-3/
END:VEVENT
BEGIN:VEVENT
DTSTART;TZID=Europe/Berlin:20251010T193000
DTEND;TZID=Europe/Berlin:20251010T193000
DTSTAMP:20260424T134347
CREATED:20250821T174528Z
LAST-MODIFIED:20250829T122514Z
UID:4008-1760124600-1760124600@www.schachclub-badsalzdetfurth.de
SUMMARY:Stadtmeisterschaft Runde 2
DESCRIPTION:
URL:https://www.schachclub-badsalzdetfurth.de/termin/stadtmeisterschaft-runde-2/
END:VEVENT
BEGIN:VEVENT
DTSTART;TZID=Europe/Berlin:20250928T110000
DTEND;TZID=Europe/Berlin:20250928T170000
DTSTAMP:20260424T134347
CREATED:20251031T185550Z
LAST-MODIFIED:20251031T185614Z
UID:4116-1759057200-1759078800@www.schachclub-badsalzdetfurth.de
SUMMARY:1. Spieltag Bezirksklasse: SC Bad Salzdetfurth - Hildesheimer SV 4
DESCRIPTION:
URL:https://www.schachclub-badsalzdetfurth.de/termin/1-spieltag-bezirksklasse-2025-2026/
LOCATION:IGS Bad Salzdetfurth\, Birkenweg 38\, Bad Salzdetfurth\, 31162
END:VEVENT
BEGIN:VEVENT
DTSTART;TZID=Europe/Berlin:20250928T100000
DTEND;TZID=Europe/Berlin:20250928T160000
DTSTAMP:20260424T134347
CREATED:20251031T181414Z
LAST-MODIFIED:20251031T182808Z
UID:4071-1759053600-1759075200@www.schachclub-badsalzdetfurth.de
SUMMARY:1. Spieltag Verbandsliga: Roch. Braunschweig - SC Bad Salzdetfurth
DESCRIPTION:
URL:https://www.schachclub-badsalzdetfurth.de/termin/1-spieltag-verbandsliga-2025-2026/
LOCATION:Braunschweig
END:VEVENT
BEGIN:VEVENT
DTSTART;TZID=Europe/Berlin:20250926T193000
DTEND;TZID=Europe/Berlin:20250926T193000
DTSTAMP:20260424T134347
CREATED:20250916T072832Z
LAST-MODIFIED:20250916T072832Z
UID:4042-1758915000-1758915000@www.schachclub-badsalzdetfurth.de
SUMMARY:Quiz und Blitz mit dem Hildesheimer SV
DESCRIPTION:
URL:https://www.schachclub-badsalzdetfurth.de/termin/quiz-und-blitz-mit-dem-hildesheimer-sv/
LOCATION:IGS Bad Salzdetfurth\, Birkenweg 38\, Bad Salzdetfurth\, 31162
END:VEVENT
BEGIN:VEVENT
DTSTART;TZID=Europe/Berlin:20250919T190000
DTEND;TZID=Europe/Berlin:20250921T190000
DTSTAMP:20260424T134347
CREATED:20250916T072623Z
LAST-MODIFIED:20250916T072623Z
UID:4039-1758308400-1758481200@www.schachclub-badsalzdetfurth.de
SUMMARY:Bezirkseinzelmeisterschaft 2025
DESCRIPTION:
URL:https://www.schachclub-badsalzdetfurth.de/termin/bezirkseinzelmeisterschaft-2025/
LOCATION:IGS Bad Salzdetfurth\, Birkenweg 38\, Bad Salzdetfurth\, 31162
END:VEVENT
END:VCALENDAR