BEGIN:VCALENDAR
VERSION:2.0
PRODID:-//Schachclub Bad Salzdetfurth - ECPv6.15.20//NONSGML v1.0//EN
CALSCALE:GREGORIAN
METHOD:PUBLISH
X-WR-CALNAME:Schachclub Bad Salzdetfurth
X-ORIGINAL-URL:https://www.schachclub-badsalzdetfurth.de
X-WR-CALDESC:Veranstaltungen für Schachclub Bad Salzdetfurth
REFRESH-INTERVAL;VALUE=DURATION:PT1H
X-Robots-Tag:noindex
X-PUBLISHED-TTL:PT1H
BEGIN:VTIMEZONE
TZID:Europe/Berlin
BEGIN:DAYLIGHT
TZOFFSETFROM:+0100
TZOFFSETTO:+0200
TZNAME:CEST
DTSTART:20240331T010000
END:DAYLIGHT
BEGIN:STANDARD
TZOFFSETFROM:+0200
TZOFFSETTO:+0100
TZNAME:CET
DTSTART:20241027T010000
END:STANDARD
BEGIN:DAYLIGHT
TZOFFSETFROM:+0100
TZOFFSETTO:+0200
TZNAME:CEST
DTSTART:20250330T010000
END:DAYLIGHT
BEGIN:STANDARD
TZOFFSETFROM:+0200
TZOFFSETTO:+0100
TZNAME:CET
DTSTART:20251026T010000
END:STANDARD
BEGIN:DAYLIGHT
TZOFFSETFROM:+0100
TZOFFSETTO:+0200
TZNAME:CEST
DTSTART:20260329T010000
END:DAYLIGHT
BEGIN:STANDARD
TZOFFSETFROM:+0200
TZOFFSETTO:+0100
TZNAME:CET
DTSTART:20261025T010000
END:STANDARD
END:VTIMEZONE
BEGIN:VEVENT
DTSTART;TZID=Europe/Berlin:20251207T100000
DTEND;TZID=Europe/Berlin:20251207T160000
DTSTAMP:20260424T195956
CREATED:20251031T182933Z
LAST-MODIFIED:20251031T183101Z
UID:4092-1765101600-1765123200@www.schachclub-badsalzdetfurth.de
SUMMARY:3. Spieltag Verbandsliga: SG Gifhorn-Wolfsburg 2 - SC Bad Salzdetfurth
DESCRIPTION:
URL:https://www.schachclub-badsalzdetfurth.de/termin/3-spieltag-verbandsliga-2025-2026/
LOCATION:Gifhorn
END:VEVENT
BEGIN:VEVENT
DTSTART;TZID=Europe/Berlin:20251207T110000
DTEND;TZID=Europe/Berlin:20251207T170000
DTSTAMP:20260424T195956
CREATED:20251031T190001Z
LAST-MODIFIED:20251031T190029Z
UID:4122-1765105200-1765126800@www.schachclub-badsalzdetfurth.de
SUMMARY:3. Spieltag Bezirksklasse: SK Duderstadt - SC Bad Salzdetfurth
DESCRIPTION:
URL:https://www.schachclub-badsalzdetfurth.de/termin/3-spieltag-bezirksklasse-2025-2026/
LOCATION:Duderstadt
END:VEVENT
BEGIN:VEVENT
DTSTART;TZID=Europe/Berlin:20251212T180000
DTEND;TZID=Europe/Berlin:20251212T220000
DTSTAMP:20260424T195956
CREATED:20250820T182950Z
LAST-MODIFIED:20250820T183019Z
UID:3998-1765562400-1765576800@www.schachclub-badsalzdetfurth.de
SUMMARY:Weihnachtsfeier
DESCRIPTION:
URL:https://www.schachclub-badsalzdetfurth.de/termin/kegeln/
END:VEVENT
END:VCALENDAR