BEGIN:VCALENDAR
VERSION:2.0
PRODID:-//Schachclub Bad Salzdetfurth - ECPv6.15.20//NONSGML v1.0//EN
CALSCALE:GREGORIAN
METHOD:PUBLISH
X-ORIGINAL-URL:https://www.schachclub-badsalzdetfurth.de
X-WR-CALDESC:Veranstaltungen für Schachclub Bad Salzdetfurth
REFRESH-INTERVAL;VALUE=DURATION:PT1H
X-Robots-Tag:noindex
X-PUBLISHED-TTL:PT1H
BEGIN:VTIMEZONE
TZID:Europe/Berlin
BEGIN:DAYLIGHT
TZOFFSETFROM:+0100
TZOFFSETTO:+0200
TZNAME:CEST
DTSTART:20250330T010000
END:DAYLIGHT
BEGIN:STANDARD
TZOFFSETFROM:+0200
TZOFFSETTO:+0100
TZNAME:CET
DTSTART:20251026T010000
END:STANDARD
BEGIN:DAYLIGHT
TZOFFSETFROM:+0100
TZOFFSETTO:+0200
TZNAME:CEST
DTSTART:20260329T010000
END:DAYLIGHT
BEGIN:STANDARD
TZOFFSETFROM:+0200
TZOFFSETTO:+0100
TZNAME:CET
DTSTART:20261025T010000
END:STANDARD
BEGIN:DAYLIGHT
TZOFFSETFROM:+0100
TZOFFSETTO:+0200
TZNAME:CEST
DTSTART:20270328T010000
END:DAYLIGHT
BEGIN:STANDARD
TZOFFSETFROM:+0200
TZOFFSETTO:+0100
TZNAME:CET
DTSTART:20271031T010000
END:STANDARD
END:VTIMEZONE
BEGIN:VEVENT
DTSTART;TZID=Europe/Berlin:20260605T180000
DTEND;TZID=Europe/Berlin:20260607T150000
DTSTAMP:20260424T170137
CREATED:20260409T090458Z
LAST-MODIFIED:20260409T090733Z
UID:4297-1780682400-1780844400@www.schachclub-badsalzdetfurth.de
SUMMARY:Altstadtfest Bad Salzdetfurth
DESCRIPTION:
URL:https://www.schachclub-badsalzdetfurth.de/termin/vereinsmeisterschaft-9-runde/
END:VEVENT
BEGIN:VEVENT
DTSTART;TZID=Europe/Berlin:20260627T110000
DTEND;TZID=Europe/Berlin:20260627T180000
DTSTAMP:20260424T170137
CREATED:20260212T222006Z
LAST-MODIFIED:20260212T222006Z
UID:4252-1782558000-1782583200@www.schachclub-badsalzdetfurth.de
SUMMARY:Landesmeisterschaft 2026 im Schach960 (Freestyle Chess)
DESCRIPTION:
URL:https://www.schachclub-badsalzdetfurth.de/termin/landesmeisterschaft-2026-im-schach960-freestyle-chess/
LOCATION:IGS Bad Salzdetfurth\, Birkenweg 38\, Bad Salzdetfurth\, 31162
END:VEVENT
END:VCALENDAR